BEGIN:VCALENDAR
VERSION:2.0
PRODID:-//Knomad Bar - ECPv6.15.13//NONSGML v1.0//EN
CALSCALE:GREGORIAN
METHOD:PUBLISH
X-ORIGINAL-URL:http://knomadbar.com
X-WR-CALDESC:Events for Knomad Bar
REFRESH-INTERVAL;VALUE=DURATION:PT1H
X-Robots-Tag:noindex
X-PUBLISHED-TTL:PT1H
BEGIN:VTIMEZONE
TZID:America/Chicago
BEGIN:DAYLIGHT
TZOFFSETFROM:-0600
TZOFFSETTO:-0500
TZNAME:CDT
DTSTART:20250309T080000
END:DAYLIGHT
BEGIN:STANDARD
TZOFFSETFROM:-0500
TZOFFSETTO:-0600
TZNAME:CST
DTSTART:20251102T070000
END:STANDARD
BEGIN:DAYLIGHT
TZOFFSETFROM:-0600
TZOFFSETTO:-0500
TZNAME:CDT
DTSTART:20260308T080000
END:DAYLIGHT
BEGIN:STANDARD
TZOFFSETFROM:-0500
TZOFFSETTO:-0600
TZNAME:CST
DTSTART:20261101T070000
END:STANDARD
BEGIN:DAYLIGHT
TZOFFSETFROM:-0600
TZOFFSETTO:-0500
TZNAME:CDT
DTSTART:20270314T080000
END:DAYLIGHT
BEGIN:STANDARD
TZOFFSETFROM:-0500
TZOFFSETTO:-0600
TZNAME:CST
DTSTART:20271107T070000
END:STANDARD
END:VTIMEZONE
BEGIN:VEVENT
DTSTART;TZID=America/Chicago:20260102T150000
DTEND;TZID=America/Chicago:20260611T220000
DTSTAMP:20260419T125013
CREATED:20250827T194053Z
LAST-MODIFIED:20260409T185338Z
UID:2796-1767366000-1781215200@knomadbar.com
SUMMARY:Introducing: Side-Thing Smashers
DESCRIPTION:Check out the amazing new food truck at the Knomad!
URL:http://knomadbar.com/event/introducing-sun-city-flautas/
CATEGORIES:Drink specials,Food
ATTACH;FMTTYPE=image/png:http://knomadbar.com/wp-content/uploads/2025/08/Nomad-Side-Thing-Smashers.png
END:VEVENT
BEGIN:VEVENT
DTSTART;VALUE=DATE:20260418
DTEND;VALUE=DATE:20260420
DTSTAMP:20260419T125013
CREATED:20210731T151124Z
LAST-MODIFIED:20260413T223243Z
UID:757-1776477600-1776563999@knomadbar.com
SUMMARY:$1 off Hard Seltzers
DESCRIPTION:Take a dollar off selected Hard Seltzers all day Saturdays.
URL:http://knomadbar.com/event/1-off-hard-seltzers/
CATEGORIES:Drink specials
ATTACH;FMTTYPE=image/jpeg:http://knomadbar.com/wp-content/uploads/2021/07/SeltzerSaturday-scaled.jpeg
END:VEVENT
BEGIN:VEVENT
DTSTART;TZID=America/Chicago:20260418T160000
DTEND;TZID=America/Chicago:20260418T190000
DTSTAMP:20260419T125013
CREATED:20260415T214327Z
LAST-MODIFIED:20260415T214327Z
UID:3188-1776528000-1776538800@knomadbar.com
SUMMARY:Saturday Music Matinee: Cobra Cats\, Unrestricted Internet Access\, Rubilators
DESCRIPTION:4pm – Cobra Cats \n5pm – Unrestricted Internet Access \n6pm – Rubilators
URL:http://knomadbar.com/event/saturday-music-matinee-cobra-cats-unrestricted-internet-access-rubilators/
CATEGORIES:live music
ATTACH;FMTTYPE=image/png:http://knomadbar.com/wp-content/uploads/2020/03/knomad-logo-deep-brown_v2.png
END:VEVENT
END:VCALENDAR