BEGIN:VCALENDAR
VERSION:2.0
PRODID:-//Knomad Bar - ECPv6.15.13//NONSGML v1.0//EN
CALSCALE:GREGORIAN
METHOD:PUBLISH
X-ORIGINAL-URL:http://knomadbar.com
X-WR-CALDESC:Events for Knomad Bar
REFRESH-INTERVAL;VALUE=DURATION:PT1H
X-Robots-Tag:noindex
X-PUBLISHED-TTL:PT1H
BEGIN:VTIMEZONE
TZID:America/Chicago
BEGIN:DAYLIGHT
TZOFFSETFROM:-0600
TZOFFSETTO:-0500
TZNAME:CDT
DTSTART:20250309T080000
END:DAYLIGHT
BEGIN:STANDARD
TZOFFSETFROM:-0500
TZOFFSETTO:-0600
TZNAME:CST
DTSTART:20251102T070000
END:STANDARD
BEGIN:DAYLIGHT
TZOFFSETFROM:-0600
TZOFFSETTO:-0500
TZNAME:CDT
DTSTART:20260308T080000
END:DAYLIGHT
BEGIN:STANDARD
TZOFFSETFROM:-0500
TZOFFSETTO:-0600
TZNAME:CST
DTSTART:20261101T070000
END:STANDARD
BEGIN:DAYLIGHT
TZOFFSETFROM:-0600
TZOFFSETTO:-0500
TZNAME:CDT
DTSTART:20270314T080000
END:DAYLIGHT
BEGIN:STANDARD
TZOFFSETFROM:-0500
TZOFFSETTO:-0600
TZNAME:CST
DTSTART:20271107T070000
END:STANDARD
END:VTIMEZONE
BEGIN:VEVENT
DTSTART;TZID=America/Chicago:20260102T150000
DTEND;TZID=America/Chicago:20260611T220000
DTSTAMP:20260423T043740
CREATED:20250827T194053Z
LAST-MODIFIED:20260409T185338Z
UID:2796-1767366000-1781215200@knomadbar.com
SUMMARY:Introducing: Side-Thing Smashers
DESCRIPTION:Check out the amazing new food truck at the Knomad!
URL:http://knomadbar.com/event/introducing-sun-city-flautas/
CATEGORIES:Drink specials,Food
ATTACH;FMTTYPE=image/png:http://knomadbar.com/wp-content/uploads/2025/08/Nomad-Side-Thing-Smashers.png
END:VEVENT
BEGIN:VEVENT
DTSTART;TZID=America/Chicago:20260422T190000
DTEND;TZID=America/Chicago:20260422T210000
DTSTAMP:20260423T043740
CREATED:20240422T171116Z
LAST-MODIFIED:20260422T231640Z
UID:1792-1776884400-1776891600@knomadbar.com
SUMMARY:Twin City Trivia at the Knomad
DESCRIPTION:Grab your friends and join us for THE BEST weekly trivia around!Each week we have 7 rounds of Trivia designed to challenge you and ensure it’s your best night of the week.
URL:http://knomadbar.com/event/twin-city-trivia-at-the-knomad/
CATEGORIES:Trivia
ATTACH;FMTTYPE=image/jpeg:http://knomadbar.com/wp-content/uploads/2024/04/Knomad-Trivia-new.jpg
END:VEVENT
BEGIN:VEVENT
DTSTART;TZID=America/Chicago:20260423T210000
DTEND;TZID=America/Chicago:20260423T233000
DTSTAMP:20260423T043740
CREATED:20260211T182405Z
LAST-MODIFIED:20260422T231820Z
UID:3092-1776978000-1776987000@knomadbar.com
SUMMARY:Kno-Diggity with DJ Jester - The Filipino Fist with DJ Neil Armstrong
DESCRIPTION:Native Texan Mikey Pendon maintains an unlikely double life: professional flight attendant and internationally recognized dj\, DJ Jester the Filipino Fist. His reputation as a dynamic\, genre-bending artist led to a touring spot as the official DJ for the hip-hop group Grand Buffet and a coveted invitation from Kid Koala to join the legendary Short Attention Span Theater tour. Jester’s versatility is evident in the broad range of artists he has shared stages and collaborated with\, including MGMT\, Of Montreal\, Joe Jack Talcum of the Dead Milkmen\, the Preservation Hall Jazz Band\, Money Mark of the Beastie Boys\, and Third Eye Blind. His work even reached the ears of the Queen of Country herself\, Dolly Parton\, who chose Jester’s unique reworking of “Jolene” for a Netflix promotional spot. Following the pandemic\, Jester’s output only accelerated. Notable 2023 milestones include a Best DJ nomination in the Austin Chronicle Music Awards\, opening for William Shatner’s keynote address at SXSW\, and being invited to New York to DJ the opening for Wes Anderson’s ASTEROID CITY and Weird Al’s WEIRD: THE AL YANKOVIC STORY. He continues to perform at major events like the US’s largest genre film festival\, Fantastic Fest\, and maintains an international presence\, with gigs in Canada and Mexico in 2024. His recent mix releases include the post-pandemic MADE IN USA (with DJ Marz)\, the kidfriendly DJ JESTER IS FOR THE CHILDREN\, and 2025’s LIVE AT THE WHITE RABBIT.
URL:http://knomadbar.com/event/dj-jester-the-filipino-fist/
CATEGORIES:live music
ATTACH;FMTTYPE=image/png:http://knomadbar.com/wp-content/uploads/2020/03/knomad-logo-deep-brown_v2.png
END:VEVENT
BEGIN:VEVENT
DTSTART;TZID=America/Chicago:20260424T200000
DTEND;TZID=America/Chicago:20260424T233000
DTSTAMP:20260423T043740
CREATED:20260422T232051Z
LAST-MODIFIED:20260422T232051Z
UID:3195-1777060800-1777073400@knomadbar.com
SUMMARY:Friday Night Music: Micajah\, Rat Park\, Akoda
DESCRIPTION:8pm – Micajah \n9pm – Rat Park \n10pm – Akoda
URL:http://knomadbar.com/event/friday-night-music-micajah-rat-park-akoda/
CATEGORIES:live music
ATTACH;FMTTYPE=image/png:http://knomadbar.com/wp-content/uploads/2020/03/knomad-logo-deep-brown_v2.png
END:VEVENT
BEGIN:VEVENT
DTSTART;VALUE=DATE:20260425
DTEND;VALUE=DATE:20260427
DTSTAMP:20260423T043740
CREATED:20210731T151124Z
LAST-MODIFIED:20260422T231632Z
UID:757-1777082400-1777168799@knomadbar.com
SUMMARY:$1 off Hard Seltzers
DESCRIPTION:Take a dollar off selected Hard Seltzers all day Saturdays.
URL:http://knomadbar.com/event/1-off-hard-seltzers/
CATEGORIES:Drink specials
ATTACH;FMTTYPE=image/jpeg:http://knomadbar.com/wp-content/uploads/2021/07/SeltzerSaturday-scaled.jpeg
END:VEVENT
BEGIN:VEVENT
DTSTART;TZID=America/Chicago:20260425T160000
DTEND;TZID=America/Chicago:20260425T190000
DTSTAMP:20260423T043740
CREATED:20260422T232247Z
LAST-MODIFIED:20260422T232247Z
UID:3197-1777132800-1777143600@knomadbar.com
SUMMARY:Saturday Music Matinee: The Whiskey Priest\, Nathan A. Snyder\, Tender Wolf
DESCRIPTION:4pm – The Whiskey Priest \n5pm – Nathan A. Snyder \n6pm – Tender Wolf
URL:http://knomadbar.com/event/saturday-music-matinee-the-whiskey-priest-nathan-a-snyder-tender-wolf/
CATEGORIES:live music
ATTACH;FMTTYPE=image/png:http://knomadbar.com/wp-content/uploads/2020/03/knomad-logo-deep-brown_v2.png
END:VEVENT
BEGIN:VEVENT
DTSTART;TZID=America/Chicago:20260425T203000
DTEND;TZID=America/Chicago:20260425T233000
DTSTAMP:20260423T043740
CREATED:20260422T232510Z
LAST-MODIFIED:20260422T232510Z
UID:3199-1777149000-1777159800@knomadbar.com
SUMMARY:Saturday Night Music: Sploot\, Peacock Hens\, Jean Caffeine and her Male Order Brides
DESCRIPTION:8:45pm – Jean Caffeine and her Male Order Brides \n9:45pm – Peacock Hens \n10:45pm – Sploot
URL:http://knomadbar.com/event/saturday-night-music-sploot-peacock-hens-jean-caffeine-and-her-male-order-brides/
CATEGORIES:live music
ATTACH;FMTTYPE=image/png:http://knomadbar.com/wp-content/uploads/2020/03/knomad-logo-deep-brown_v2.png
END:VEVENT
BEGIN:VEVENT
DTSTART;TZID=America/Chicago:20260426T130000
DTEND;TZID=America/Chicago:20260426T170000
DTSTAMP:20260423T043740
CREATED:20231117T210339Z
LAST-MODIFIED:20260422T231626Z
UID:1644-1777208400-1777222800@knomadbar.com
SUMMARY:Sunday Breakfast Tacos
DESCRIPTION:From noon till we run out\, come get some delicious homemade breakfast tacos at the Knomad. $3 bean and cheese or $5 Green chili chicken. Available in corn or flour tortillas \n 
URL:http://knomadbar.com/event/the-knomad-brunch/
CATEGORIES:Food
ATTACH;FMTTYPE=image/jpeg:http://knomadbar.com/wp-content/uploads/2023/11/tacos-scaled.jpg
END:VEVENT
BEGIN:VEVENT
DTSTART;TZID=America/Chicago:20260426T160000
DTEND;TZID=America/Chicago:20260426T190000
DTSTAMP:20260423T043740
CREATED:20260422T232700Z
LAST-MODIFIED:20260422T232700Z
UID:3201-1777219200-1777230000@knomadbar.com
SUMMARY:Sunday Music Matinee: Heather Bishop\, Flametrick Subs\, Pocket FishRmen
DESCRIPTION:4pm – Heather Bishop \n5pm – Flametrick Subs \n6pm – Pocket FishRmen
URL:http://knomadbar.com/event/sunday-music-matinee-heather-bishop-flametrick-subs-pocket-fishrmen/
CATEGORIES:live music
ATTACH;FMTTYPE=image/png:http://knomadbar.com/wp-content/uploads/2020/03/knomad-logo-deep-brown_v2.png
END:VEVENT
BEGIN:VEVENT
DTSTART;VALUE=DATE:20260427
DTEND;VALUE=DATE:20260429
DTSTAMP:20260423T043740
CREATED:20210731T020839Z
LAST-MODIFIED:20260422T231618Z
UID:747-1777255200-1777341599@knomadbar.com
SUMMARY:Modelo Mondays - Now $1.00!
DESCRIPTION:$1.00 Modelo Beers all day.
URL:http://knomadbar.com/event/modelo-mondays/
CATEGORIES:Drink specials
ATTACH;FMTTYPE=image/jpeg:http://knomadbar.com/wp-content/uploads/2021/07/modelo.jpeg
END:VEVENT
BEGIN:VEVENT
DTSTART;TZID=America/Chicago:20260428T190000
DTEND;TZID=America/Chicago:20260428T210000
DTSTAMP:20260423T043740
CREATED:20240831T004009Z
LAST-MODIFIED:20260422T231611Z
UID:2171-1777402800-1777410000@knomadbar.com
SUMMARY:Comedy on Corona
DESCRIPTION:Join us for a night of free comedy with touring comics and local favorites at Knomad Bar! \n  \n  \n 
URL:http://knomadbar.com/event/comedy-on-corona/
CATEGORIES:Comedy
ATTACH;FMTTYPE=image/jpeg:http://knomadbar.com/wp-content/uploads/2024/08/KnomadTuesdaysScratchOffComedy.jpg
END:VEVENT
BEGIN:VEVENT
DTSTART;TZID=America/Chicago:20260502T203000
DTEND;TZID=America/Chicago:20260502T235900
DTSTAMP:20260423T043740
CREATED:20221013T134000Z
LAST-MODIFIED:20260409T184951Z
UID:1302-1777753800-1777766340@knomadbar.com
SUMMARY:The Karaoke Underground
DESCRIPTION:More than 1\,000 punk and indie classics\, we want you to sing ’em LOUD! As seen at Matador 21\, Fun Fun Fun Fest\, and featured in The Village Voice\, Noisey\, Consequence Of Sound\, Buzzfeed and more.\nThe Karaoke Underground is for punk and indie rock fans who love to scream\, yelp\, croon\, bark and sometimes even sing their favorites from artists like Black Flag\, Modest Mouse\, the Misfits\, Cat Power\, the Pixies\, Dead Kennedys\, Sleater-Kinney\, Pavement\, Rilo Kiley\, Joy Division\, Fugazi\, Guided By Voices and many more. It’s video karaoke with onscreen lyrics\, a stage\, you — and the chance to sing great songs you just can’t find anywhere else.\nWith an ever-expanding catalog of punk and indie classics\, we’ve got your poison. From Wilco to Wire\, from Belle & Sebastian to Big Black\, you’re sure to find something to put a microphone in your hand.\nSonglist at http://karaokeunderground.com/
URL:http://knomadbar.com/event/karaoke-underground/
CATEGORIES:live music
ATTACH;FMTTYPE=image/jpeg:http://knomadbar.com/wp-content/uploads/2022/10/Karaoke-Underground-First-Saturdays.jpeg
END:VEVENT
END:VCALENDAR